BEGIN:VCALENDAR
VERSION:2.0
PRODID:-//hacksw/handcal//NONSGML v1.0//EN
CALSCALE:GREGORIAN
BEGIN:VEVENT
LOCATION:Chateau St.Havel - Před nádražím 1/6\, Praha 4
DESCRIPTION:Podnikatel\, budovatel komunit a hlas nové generace lídrů. Václav „Vašek“ Tomanec patří mezi výrazné mladé podnikatele a lídry\, kteří propojují byznys\, osobní rozvoj a komunitní vzdělávání. Je zakladatelem projektu The One Percent\, platformy zaměřené na růst jednotlivců i týmů\, která si získala pozornost díky autentickému přístupu\, vyprodaným seminářům a důrazu na praktickou aplikaci principů do každodenního života. Vedle toho je spolumajitelem značky Samurai Shot\, kde se podílí na strategickém rozvoji a budování silné značky.
DTSTART:20260511T163000Z
DTEND:20260511T183000Z
SUMMARY:Václav Tomanec hostem Petra Horkého
URL;VALUE=URI:https://www.visionclub.cz/program/2026-05-11-klubovy-vecer
DTSTAMP:20260425T125046Z
UID:69ecb8a68997a
END:VEVENT
END:VCALENDAR